BEGIN:VCALENDAR
VERSION:2.0
PRODID:-//Indesign Training Berlin - ECPv6.15.20//NONSGML v1.0//EN
CALSCALE:GREGORIAN
METHOD:PUBLISH
X-ORIGINAL-URL:https://indesign-training.berlin
X-WR-CALDESC:Events for Indesign Training Berlin
REFRESH-INTERVAL;VALUE=DURATION:PT1H
X-Robots-Tag:noindex
X-PUBLISHED-TTL:PT1H
BEGIN:VTIMEZONE
TZID:Europe/Berlin
BEGIN:DAYLIGHT
TZOFFSETFROM:+0100
TZOFFSETTO:+0200
TZNAME:CEST
DTSTART:20210328T010000
END:DAYLIGHT
BEGIN:STANDARD
TZOFFSETFROM:+0200
TZOFFSETTO:+0100
TZNAME:CET
DTSTART:20211031T010000
END:STANDARD
BEGIN:DAYLIGHT
TZOFFSETFROM:+0100
TZOFFSETTO:+0200
TZNAME:CEST
DTSTART:20220327T010000
END:DAYLIGHT
BEGIN:STANDARD
TZOFFSETFROM:+0200
TZOFFSETTO:+0100
TZNAME:CET
DTSTART:20221030T010000
END:STANDARD
BEGIN:DAYLIGHT
TZOFFSETFROM:+0100
TZOFFSETTO:+0200
TZNAME:CEST
DTSTART:20230326T010000
END:DAYLIGHT
BEGIN:STANDARD
TZOFFSETFROM:+0200
TZOFFSETTO:+0100
TZNAME:CET
DTSTART:20231029T010000
END:STANDARD
END:VTIMEZONE
BEGIN:VEVENT
DTSTART;TZID=Europe/Berlin:20220831T080000
DTEND;TZID=Europe/Berlin:20220902T170000
DTSTAMP:20260423T132815
CREATED:20220810T183907Z
LAST-MODIFIED:20220810T183907Z
UID:2587-1661932800-1662138000@indesign-training.berlin
SUMMARY:Adobe Illustrator - Grundkurs
DESCRIPTION:
URL:https://indesign-training.berlin/event/adobe-illustrator-grundkurs-12/
END:VEVENT
BEGIN:VEVENT
DTSTART;TZID=Europe/Berlin:20220905T080000
DTEND;TZID=Europe/Berlin:20220905T170000
DTSTAMP:20260423T132816
CREATED:20220831T163248Z
LAST-MODIFIED:20220831T163248Z
UID:2599-1662364800-1662397200@indesign-training.berlin
SUMMARY:Adobe Photoshop - für Marketinganwender - auf Mac
DESCRIPTION:
URL:https://indesign-training.berlin/event/adobe-photoshop-fuer-marketinganwender-auf-mac-2/
END:VEVENT
BEGIN:VEVENT
DTSTART;TZID=Europe/Berlin:20220906T080000
DTEND;TZID=Europe/Berlin:20220906T170000
DTSTAMP:20260423T132816
CREATED:20220808T100548Z
LAST-MODIFIED:20220809T095802Z
UID:2585-1662451200-1662483600@indesign-training.berlin
SUMMARY:Firmenschulung
DESCRIPTION:
URL:https://indesign-training.berlin/event/firmenschulung-21/
END:VEVENT
BEGIN:VEVENT
DTSTART;TZID=Europe/Berlin:20220908T080000
DTEND;TZID=Europe/Berlin:20220908T170000
DTSTAMP:20260423T132816
CREATED:20220630T185129Z
LAST-MODIFIED:20220903T103526Z
UID:2545-1662624000-1662656400@indesign-training.berlin
SUMMARY:Adobe Photoshop - Aufbaukurs - Online-Training
DESCRIPTION:
URL:https://indesign-training.berlin/event/adobe-photoshop-aufbaukurs-online-training-2/
END:VEVENT
BEGIN:VEVENT
DTSTART;TZID=Europe/Berlin:20220914T080000
DTEND;TZID=Europe/Berlin:20220916T170000
DTSTAMP:20260423T132816
CREATED:20220706T133941Z
LAST-MODIFIED:20220706T133947Z
UID:2564-1663142400-1663347600@indesign-training.berlin
SUMMARY:Adobe Photoshop - Grundkurs - Inhouseschulung
DESCRIPTION:
URL:https://indesign-training.berlin/event/adobe-photoshop-grundkurs-inhouseschulung/
END:VEVENT
BEGIN:VEVENT
DTSTART;TZID=Europe/Berlin:20220920T080000
DTEND;TZID=Europe/Berlin:20220920T170000
DTSTAMP:20260423T132816
CREATED:20220915T164530Z
LAST-MODIFIED:20220915T164530Z
UID:2604-1663660800-1663693200@indesign-training.berlin
SUMMARY:Termin um 9.00-10.00
DESCRIPTION:
URL:https://indesign-training.berlin/event/termin-um-9-00-10-00/
END:VEVENT
BEGIN:VEVENT
DTSTART;TZID=Europe/Berlin:20220921T080000
DTEND;TZID=Europe/Berlin:20220922T170000
DTSTAMP:20260423T132816
CREATED:20220805T145200Z
LAST-MODIFIED:20220912T144615Z
UID:2579-1663747200-1663866000@indesign-training.berlin
SUMMARY:Adobe Photoshop - Grundkurs - Online-Training
DESCRIPTION:
URL:https://indesign-training.berlin/event/adobe-photoshop-grundkurs-online-training-5/
END:VEVENT
BEGIN:VEVENT
DTSTART;TZID=Europe/Berlin:20220923T080000
DTEND;TZID=Europe/Berlin:20220923T170000
DTSTAMP:20260423T132816
CREATED:20220914T160102Z
LAST-MODIFIED:20220914T160102Z
UID:2602-1663920000-1663952400@indesign-training.berlin
SUMMARY:Urlaub
DESCRIPTION:
URL:https://indesign-training.berlin/event/urlaub-21/
END:VEVENT
BEGIN:VEVENT
DTSTART;TZID=Europe/Berlin:20220927T080000
DTEND;TZID=Europe/Berlin:20220927T170000
DTSTAMP:20260423T132816
CREATED:20220805T145431Z
LAST-MODIFIED:20220920T154253Z
UID:2581-1664265600-1664298000@indesign-training.berlin
SUMMARY:Adobe Photoshop - Komplexe Freisteller und Masken
DESCRIPTION:
URL:https://indesign-training.berlin/event/adobe-photoshop-komplexe-freisteller-und-masken-2/
END:VEVENT
BEGIN:VEVENT
DTSTART;TZID=Europe/Berlin:20220928T080000
DTEND;TZID=Europe/Berlin:20220928T170000
DTSTAMP:20260423T132816
CREATED:20220920T154344Z
LAST-MODIFIED:20220920T154344Z
UID:2613-1664352000-1664384400@indesign-training.berlin
SUMMARY:Firmenschulung
DESCRIPTION:
URL:https://indesign-training.berlin/event/firmenschulung-22/
END:VEVENT
BEGIN:VEVENT
DTSTART;TZID=Europe/Berlin:20220929T080000
DTEND;TZID=Europe/Berlin:20220929T170000
DTSTAMP:20260423T132816
CREATED:20220920T154141Z
LAST-MODIFIED:20220928T145453Z
UID:2611-1664438400-1664470800@indesign-training.berlin
SUMMARY:InDesign Aufbaukurs
DESCRIPTION:
URL:https://indesign-training.berlin/event/geblockt-aufbaukurs/
END:VEVENT
BEGIN:VEVENT
DTSTART;TZID=Europe/Berlin:20220930T080000
DTEND;TZID=Europe/Berlin:20220930T170000
DTSTAMP:20260423T132816
CREATED:20220710T090438Z
LAST-MODIFIED:20220710T090448Z
UID:2567-1664524800-1664557200@indesign-training.berlin
SUMMARY:Urlaub
DESCRIPTION:
URL:https://indesign-training.berlin/event/urlaub-19/
END:VEVENT
END:VCALENDAR