BEGIN:VCALENDAR
VERSION:2.0
PRODID:-//Indesign Training Berlin - ECPv6.15.20//NONSGML v1.0//EN
CALSCALE:GREGORIAN
METHOD:PUBLISH
X-WR-CALNAME:Indesign Training Berlin
X-ORIGINAL-URL:https://indesign-training.berlin
X-WR-CALDESC:Events for Indesign Training Berlin
REFRESH-INTERVAL;VALUE=DURATION:PT1H
X-Robots-Tag:noindex
X-PUBLISHED-TTL:PT1H
BEGIN:VTIMEZONE
TZID:Europe/Berlin
BEGIN:DAYLIGHT
TZOFFSETFROM:+0100
TZOFFSETTO:+0200
TZNAME:CEST
DTSTART:20210328T010000
END:DAYLIGHT
BEGIN:STANDARD
TZOFFSETFROM:+0200
TZOFFSETTO:+0100
TZNAME:CET
DTSTART:20211031T010000
END:STANDARD
BEGIN:DAYLIGHT
TZOFFSETFROM:+0100
TZOFFSETTO:+0200
TZNAME:CEST
DTSTART:20220327T010000
END:DAYLIGHT
BEGIN:STANDARD
TZOFFSETFROM:+0200
TZOFFSETTO:+0100
TZNAME:CET
DTSTART:20221030T010000
END:STANDARD
BEGIN:DAYLIGHT
TZOFFSETFROM:+0100
TZOFFSETTO:+0200
TZNAME:CEST
DTSTART:20230326T010000
END:DAYLIGHT
BEGIN:STANDARD
TZOFFSETFROM:+0200
TZOFFSETTO:+0100
TZNAME:CET
DTSTART:20231029T010000
END:STANDARD
END:VTIMEZONE
BEGIN:VEVENT
DTSTART;TZID=Europe/Berlin:20221021T080000
DTEND;TZID=Europe/Berlin:20221021T170000
DTSTAMP:20260425T125128
CREATED:20220630T184914Z
LAST-MODIFIED:20220630T184914Z
UID:2543-1666339200-1666371600@indesign-training.berlin
SUMMARY:Adobe Creative Cloud CC - Reinzeichnung und Druckvorstufe mit InDesign\, Acrobat und Photoshop
DESCRIPTION:
URL:https://indesign-training.berlin/event/adobe-creative-cloud-cc-reinzeichnung-und-druckvorstufe-mit-indesign-acrobat-und-photoshop/
END:VEVENT
END:VCALENDAR